BEGIN:VCALENDAR
VERSION:2.0
PRODID:-//ChamberMaster//Event Calendar 2.0//EN
METHOD:PUBLISH
X-PUBLISHED-TTL:P3D
REFRESH-INTERVAL:P3D
CALSCALE:GREGORIAN
BEGIN:VEVENT
DTSTART;VALUE=DATE:20230603
DTEND;VALUE=DATE:20230604
TRANSP:TRANSPARENT
X-MICROSOFT-CDO-ALLDAYEVENT:TRUE
SUMMARY:Hog Leg Band – Live at The Table at Madeley!
DESCRIPTION:Hog Leg band consists of Grammy award winning drummer Brian Brignac. On lead guitar one & keys stands Corban "Dr. Mullet" Barnes. "Lightnin" Lucho Bolivar from Barranquilla\, Colombia on lead guitar two. Chris Roberts\, legendary bassist for Blues king Johnathon "Boogie" Long on bass guitar. Gram Raefiddler & Harmonica player from Mississippi\, with Richard Comeaux on Steel guitar Lance Woolie(former music director of the syndicated Walton & Johnson Show) on lead vocals.Frontman Lance Woolie has a long history as a producer and entertainer. Lance has a one-of-a-kind\, world class voice that enables him to sing along with all the greats that came before him. His passion is to get the audience moving with golden hits that make you wanna honky-tonk the night away.Music has always been the passion for each member of the Hog leg Band. With combined 60 years of experience as musicians\, writers\, performers\, and gig setters\, their signature style of country music is what makes the crowd demand to keep the party going. No matter how drunk the audience becomes\,HogLeg is here to remind them\, You ain't too drunk to drink!
X-ALT-DESC;FMTTYPE=text/html:<span style="color:rgb(20\, 24\, 39)\; font-family:helvetica neue\,helvetica\,-apple-system\,blinkmacsystemfont\,roboto\,arial\,sans-serif\; font-size:18px">Hog Leg band consists of Grammy award winning drummer Brian Brignac. On lead guitar one &amp\; keys stands Corban &ldquo\;Dr. Mullet&rdquo\; Barnes. &ldquo\;Lightnin&rdquo\; Lucho Bolivar from Barranquilla\, Colombia on lead guitar two. Chris Roberts\, legendary bassist for Blues king Johnathon &ldquo\;Boogie&rdquo\; Long on bass guitar. Gram Raefiddler &amp\; Harmonica player from Mississippi\, with Richard Comeaux on Steel guitar Lance Woolie(former music director of the syndicated Walton &amp\; Johnson Show) on lead vocals.Frontman Lance Woolie has a long history as a producer and entertainer. Lance has a one-of-a-kind\, world class voice that enables him to sing along with all the greats that came before him. His passion is to get the audience moving with golden hits that make you wanna honky-tonk the night away.Music has always been the passion for each member of the Hog leg Band. With combined 60 years of experience as musicians\, writers\, performers\, and gig setters\, their signature style of country music is what makes the crowd demand to keep the party going. No matter how drunk the audience becomes\,HogLeg is here to remind them\, You ain&rsquo\;t too drunk to drink!</span>
LOCATION:The Table at Madeley
UID:e.1664.5117868
SEQUENCE:3
DTSTAMP:20260420T072154Z
URL:https://www.chamber.conroe.org/events/details/hog-leg-band-live-at-the-table-at-madeley-5117868
END:VEVENT

END:VCALENDAR
