BEGIN:VCALENDAR
VERSION:2.0
PRODID:-//ChamberMaster//Event Calendar 2.0//EN
METHOD:PUBLISH
X-PUBLISHED-TTL:P3D
REFRESH-INTERVAL:P3D
CALSCALE:GREGORIAN
BEGIN:VEVENT
DTSTART:20260421T163000Z
DTEND:20260421T180000Z
X-MICROSOFT-CDO-ALLDAYEVENT:FALSE
SUMMARY:Insurance Essentials for Nonprofits- Texas First Lunch and Learn
DESCRIPTION:In this lunch and learn\, we will demystify insurance coverage for nonprofits and share practical steps to help safeguard your organization from liabilities that could compromise your mission.
X-ALT-DESC;FMTTYPE=text/html:<span style="font-size:20px"><strong>In this lunch and learn\, we will demystify insurance coverage for nonprofits and share practical steps to help safeguard your organization from liabilities that could compromise your mission.</strong></span>
LOCATION:The Woodlands Chamber of Commerce Lakeshore Board Room 9320 Lakeside Blvd. The Woodlands\, TX 77381
UID:e.1664.5127546
SEQUENCE:3
DTSTAMP:20260421T174738Z
URL:https://www.chamber.conroe.org/events/details/insurance-essentials-for-nonprofits-texas-first-lunch-and-learn-5127546
END:VEVENT

END:VCALENDAR
