BEGIN:VCALENDAR
VERSION:2.0
PRODID:-//ChamberMaster//Event Calendar 2.0//EN
METHOD:PUBLISH
X-PUBLISHED-TTL:P3D
REFRESH-INTERVAL:P3D
CALSCALE:GREGORIAN
BEGIN:VEVENT
DTSTART:20181221T143000Z
DTEND:20181221T153000Z
X-MICROSOFT-CDO-ALLDAYEVENT:FALSE
SUMMARY:MCABW Conroe Business Coffee Builder
DESCRIPTION:MCABW Conroe Business Coffee Builder\n\nJoin the ladies of Montgomery County Association of Business Women (MCABW) the third Friday of every month here at the Chamber for a morning of networking and education! Each month there is a presentation on various topics touching on business. \n\n\n\nJamie Meche with Comforts of Home will be speaking on "Caregiving for the Holidays". Many of us will find ourselves in the role of caregiver\, and this is a great educational tool to help with caregiver stress during the holidays.\n\n\n\nMark your calendars and we will see you here at the Chamber!
X-ALT-DESC;FMTTYPE=text/html:<span style="font-size:18px\;"><span style="font-family:tahoma\;"><span style="color:#FFA500\;">MCABW Conroe Business Coffee Builder</span></span></span><br />\nJoin the ladies of Montgomery County Association of Business Women&nbsp\;(MCABW) the third Friday of every month here at the Chamber for a morning of networking and education! Each month there is a presentation on various topics touching on business.&nbsp\;<br />\n<br />\nJamie Meche with Comforts of Home will be speaking on &quot\;Caregiving for the Holidays&quot\;. Many of us will find ourselves in the role of caregiver\, and this is a great educational tool to help with caregiver stress during the holidays.<br />\n<br />\nMark your calendars and we will see you here at the Chamber!
LOCATION:The Chamber 505 W Davis St Conroe\, TX 77301
UID:e.1664.5112230
SEQUENCE:3
DTSTAMP:20260424T155805Z
URL:https://www.chamber.conroe.org/events/details/mcabw-conroe-business-coffee-builder-12-21-2018-5112230
END:VEVENT

END:VCALENDAR
