BEGIN:VCALENDAR
VERSION:2.0
PRODID:-//ChamberMaster//Event Calendar 2.0//EN
METHOD:PUBLISH
X-PUBLISHED-TTL:P3D
REFRESH-INTERVAL:P3D
CALSCALE:GREGORIAN
BEGIN:VEVENT
DTSTART:20260813T123000Z
DTEND:20260813T140000Z
X-MICROSOFT-CDO-ALLDAYEVENT:FALSE
SUMMARY:Morning Mingle - Texas Regional Bank w/Citizen's Grill
DESCRIPTION:Morning Mingle at Citizens Grill\n\nFire up your morning at our next Morning Mingle\, hosted by Texas Regional Bank and co-hosted by Citizens Grill right in the heart of the action at Citizens Grill!\n\n\n\nJoin fellow Chamber members and guests for a relaxed\, come-and-go networking event with a flavorful twist. Enjoy great conversation\, build meaningful connections\, and kick off your day in a warm\, welcoming setting.\n\n\n\nMorning Mingle is the perfect way to start your day with strong relationships and local flavor.
X-ALT-DESC;FMTTYPE=text/html:<p data-end="46" data-start="0"><strong data-end="40" data-start="4">Morning Mingle at Citizens Grill</strong></p>\n\n<p data-end="244" data-start="48">Fire up your morning at our next <strong data-end="99" data-start="81">Morning Mingle</strong>\, hosted by <strong data-end="152" data-start="111">Texas Regional Bank</strong> and co-hosted by <strong data-end="188" data-start="170">Citizens Grill</strong>&mdash\;right in the heart of the action at <strong data-end="243" data-start="225">Citizens Grill</strong>!<br />\n<br />\nJoin fellow Chamber members and guests for a relaxed\, come-and-go networking event with a flavorful twist. Enjoy great conversation\, build meaningful connections\, and kick off your day in a warm\, welcoming setting.<br />\n<br />\nMorning Mingle is the perfect way to start your day&mdash\;with strong relationships and local flavor.</p>\n
LOCATION:Citizen's Grill 315 Enclave Dr Suite 400 Conroe\, TX 77384
UID:e.1664.5127095
SEQUENCE:3
DTSTAMP:20260420T115543Z
URL:https://www.chamber.conroe.org/events/details/morning-mingle-texas-regional-bank-w-citizen-s-grill-5127095
END:VEVENT

END:VCALENDAR
