BEGIN:VCALENDAR
VERSION:2.0
PRODID:-//ChamberMaster//Event Calendar 2.0//EN
METHOD:PUBLISH
X-PUBLISHED-TTL:P3D
REFRESH-INTERVAL:P3D
CALSCALE:GREGORIAN
BEGIN:VEVENT
DTSTART:20221027T210000Z
DTEND:20221027T230000Z
X-MICROSOFT-CDO-ALLDAYEVENT:FALSE
SUMMARY:WorkHub -Ground Breaking
DESCRIPTION:Please join us for WorkHubs GROUNDBREAKING!! We've got Tacos and Drinks! Come learn about our WorkHub Expansions\, enjoy an afternoon break!\n\n Workhub continues to grow!\n\nif you need more information about the event please call \n\n1-833- GO WORKHUB\n\n1-833- 469 -6754
X-ALT-DESC;FMTTYPE=text/html:<strong><span style="color:darkorange\;"><span style="font-family:helvetica\,sans-serif\;"><span style="font-size:13.5pt\;">Please join us for WorkHubs GROUNDBREAKING!! We&rsquo\;ve got Tacos and Drinks! Come learn about our WorkHub Expansions\, enjoy an afternoon break!</span></span></span></strong><br />\n&nbsp\;<strong><span style="color:darkorange\;"><span style="font-family:helvetica\,sans-serif\;"><span style="font-size:16.5pt\;">Workhub</span></span></span></strong><strong><span style="color:dimgray\;"><span style="font-family:helvetica\,sans-serif\;"><span style="font-size:16.5pt\;"> continues to&nbsp\;grow!</span></span></span></strong><br />\n<span style="color:dimgray\;"><span style="font-family:helvetica\,sans-serif\;"><span style="font-size:13.5pt\;">if you need more information about the event&nbsp\;please call&nbsp\;</span></span></span><br />\n<strong><span style="color:darkorange\;"><span style="font-family:helvetica\,sans-serif\;"><span style="font-size:18.0pt\;">1-833- GO WORKHUB</span></span></span></strong><br />\n<span style="color:dimgray\;"><span style="font-family:helvetica\,sans-serif\;"><span style="font-size:18.0pt\;">1-833- 469 -6754</span></span></span>
LOCATION:1030 Outpost Dr\, Conroe\, TX 77304
UID:e.1664.5117361
SEQUENCE:3
DTSTAMP:20260421T040540Z
URL:https://www.chamber.conroe.org/events/details/workhub-ground-breaking-5117361
END:VEVENT

END:VCALENDAR
